BEGIN:VCALENDAR
VERSION:2.0
PRODID:http://bistummainz.de
BEGIN:VEVENT
UID:32f43510-08d4-11f1-bae7-0242ac11002b-1777039200000-de
DTSTAMP:20260213T120450Z
DTSTART:20260424T140000Z
DTEND:20260424T150000Z
SUMMARY;LANGUAGE=de:Abendgebet für die Heimbewohner - entfällt
END:VEVENT
END:VCALENDAR
