BEGIN:VCALENDAR
VERSION:2.0
PRODID:http://bistummainz.de
BEGIN:VEVENT
UID:353037c1-0e54-11f1-bae7-0242ac11002b-1777050000000-de
DTSTAMP:20260220T120345Z
DTSTART:20260424T170000Z
DTEND:20260424T180000Z
SUMMARY;LANGUAGE=de:Ökum. Taizéandacht
END:VEVENT
END:VCALENDAR
