BEGIN:VCALENDAR
VERSION:2.0
PRODID:http://bistummainz.de
BEGIN:VEVENT
UID:35c3d712-f39c-11f0-bae7-0242ac11002b-1777194000000-de
DTSTAMP:20260117T120109Z
DTSTART:20260426T090000Z
DTEND:20260426T100000Z
SUMMARY;LANGUAGE=de:Eucharistiefeier zum Patronatsfest
END:VEVENT
END:VCALENDAR
