BEGIN:VCALENDAR
VERSION:2.0
PRODID:http://bistummainz.de
BEGIN:VEVENT
UID:36318d14-028c-11f1-bae7-0242ac11002b-1776961800000-de
DTSTAMP:20260205T121425Z
DTSTART:20260423T163000Z
DTEND:20260423T173000Z
SUMMARY;LANGUAGE=de:Wort-Gottes-Feier mit Kommunionspendung
END:VEVENT
END:VCALENDAR
