BEGIN:VCALENDAR
VERSION:2.0
PRODID:http://bistummainz.de
BEGIN:VEVENT
UID:36b277c6-f079-11f0-bae7-0242ac11002b-1776873600000-de
DTSTAMP:20260113T121304Z
DTSTART:20260422T160000Z
DTEND:20260422T163000Z
SUMMARY;LANGUAGE=de:Rosenkranzgebet
END:VEVENT
END:VCALENDAR
