BEGIN:VCALENDAR
VERSION:2.0
PRODID:http://bistummainz.de
BEGIN:VEVENT
UID:37680c29-f079-11f0-bae7-0242ac11002b-1776864600000-de
DTSTAMP:20260113T121305Z
DTSTART:20260422T133000Z
DTEND:20260422T150000Z
SUMMARY;LANGUAGE=de:Rosenkranz d. philippinischen Gemeinde (engl.)
END:VEVENT
END:VCALENDAR
