BEGIN:VCALENDAR
VERSION:2.0
PRODID:http://bistummainz.de
BEGIN:VEVENT
UID:378b1b6b-eee5-11f0-bae7-0242ac11002b-1776700800000-de
DTSTAMP:20260111T120109Z
DTSTART:20260420T160000Z
DTEND:20260420T170000Z
SUMMARY;LANGUAGE=de:Eucharistiefeier
END:VEVENT
END:VCALENDAR
