BEGIN:VCALENDAR
VERSION:2.0
PRODID:http://bistummainz.de
BEGIN:VEVENT
UID:3d39dc78-efb0-11f0-bae7-0242ac11002b-1776754800000-de
DTSTAMP:20260112T121426Z
DTSTART:20260421T070000Z
DTEND:20260421T080000Z
SUMMARY;LANGUAGE=de:Hl. Messe
END:VEVENT
END:VCALENDAR
