BEGIN:VCALENDAR
VERSION:2.0
PRODID:http://bistummainz.de
BEGIN:VEVENT
UID:3df1a3e0-f6c2-11f0-bae7-0242ac11002b-1777568400000-de
DTSTAMP:20260121T121057Z
DTSTART:20260430T170000Z
DTEND:20260430T180000Z
SUMMARY;LANGUAGE=de:Heilige Messe
END:VEVENT
END:VCALENDAR
