BEGIN:VCALENDAR
VERSION:2.0
PRODID:http://bistummainz.de
BEGIN:VEVENT
UID:3eb0c7c1-f078-11f0-bae7-0242ac11002b-1776839400000-de
DTSTAMP:20260113T120608Z
DTSTART:20260422T063000Z
DTEND:20260422T073000Z
SUMMARY;LANGUAGE=de:Eucharistiefeier
END:VEVENT
END:VCALENDAR
