BEGIN:VCALENDAR
VERSION:2.0
PRODID:http://bistummainz.de
BEGIN:VEVENT
UID:4079c802-f078-11f0-bae7-0242ac11002b-1776842100000-de
DTSTAMP:20260113T120611Z
DTSTART:20260422T071500Z
DTEND:20260422T081500Z
SUMMARY;LANGUAGE=de:Eucharistiefeier
END:VEVENT
END:VCALENDAR
