BEGIN:VCALENDAR
VERSION:2.0
PRODID:http://bistummainz.de
BEGIN:VEVENT
UID:422a8650-f9e7-11f0-bae7-0242ac11002b-1777910400000-de
DTSTAMP:20260125T121329Z
DTSTART:20260504T160000Z
DTEND:20260504T163000Z
SUMMARY;LANGUAGE=de:Rosenkranz
END:VEVENT
END:VCALENDAR
