BEGIN:VCALENDAR
VERSION:2.0
PRODID:http://bistummainz.de
BEGIN:VEVENT
UID:4235a080-fdd4-11f0-bae7-0242ac11002b-1776960000000-de
DTSTAMP:20260130T120733Z
DTSTART:20260423T160000Z
DTEND:20260423T170000Z
SUMMARY;LANGUAGE=de:Hl. Messe zum Patrozinium St. Georg
END:VEVENT
END:VCALENDAR
