BEGIN:VCALENDAR
VERSION:2.0
PRODID:http://bistummainz.de
BEGIN:VEVENT
UID:42b31745-f9e7-11f0-bae7-0242ac11002b-1777914000000-de
DTSTAMP:20260125T121330Z
DTSTART:20260504T170000Z
DTEND:20260504T180000Z
SUMMARY;LANGUAGE=de:Maiandacht für die Kolping
END:VEVENT
END:VCALENDAR
