BEGIN:VCALENDAR
VERSION:2.0
PRODID:http://bistummainz.de
BEGIN:VEVENT
UID:42eb088f-f530-11f0-bae7-0242ac11002b-1777359600000-de
DTSTAMP:20260119T121327Z
DTSTART:20260428T070000Z
DTEND:20260428T080000Z
SUMMARY;LANGUAGE=de:Eucharistiefeier (Nagel)
END:VEVENT
END:VCALENDAR
