BEGIN:VCALENDAR
VERSION:2.0
PRODID:http://bistummainz.de
BEGIN:VEVENT
UID:441601d6-f078-11f0-bae7-0242ac11002b-1776837600000-de
DTSTAMP:20260113T120617Z
DTSTART:20260422T060000Z
DTEND:20260422T070000Z
SUMMARY;LANGUAGE=de:Eucharistiefeier
END:VEVENT
END:VCALENDAR
