BEGIN:VCALENDAR
VERSION:2.0
PRODID:http://bistummainz.de
BEGIN:VEVENT
UID:4503274d-0679-11f1-bae7-0242ac11002b-1776949200000-de
DTSTAMP:20260210T120854Z
DTSTART:20260423T130000Z
DTEND:20260423T140000Z
SUMMARY;LANGUAGE=de:Wort-Gottes-Feier im Johanniterhaus
END:VEVENT
END:VCALENDAR
