BEGIN:VCALENDAR
VERSION:2.0
PRODID:http://bistummainz.de
BEGIN:VEVENT
UID:46fc8d89-16f9-11f1-bae7-0242ac11002b-1776958200000-de
DTSTAMP:20260303T120531Z
DTSTART:20260423T153000Z
DTEND:20260423T163000Z
SUMMARY;LANGUAGE=de:Probe zur Erstkommunion
END:VEVENT
END:VCALENDAR
