BEGIN:VCALENDAR
VERSION:2.0
PRODID:http://bistummainz.de
BEGIN:VEVENT
UID:477e8ed8-16f9-11f1-bae7-0242ac11002b-1777104600000-de
DTSTAMP:20260303T120532Z
DTSTART:20260425T081000Z
DTEND:20260425T083000Z
SUMMARY;LANGUAGE=de:Treffen der Kommunionkinder vor dem Festgottesdienst
END:VEVENT
END:VCALENDAR
