BEGIN:VCALENDAR
VERSION:2.0
PRODID:http://bistummainz.de
BEGIN:VEVENT
UID:47d43d21-080b-11f1-bae7-0242ac11002b-1776871800000-de
DTSTAMP:20260212T120636Z
DTSTART:20260422T153000Z
DTEND:20260422T160000Z
SUMMARY;LANGUAGE=de:Andacht Rosenkranz
END:VEVENT
END:VCALENDAR
