BEGIN:VCALENDAR
VERSION:2.0
PRODID:http://bistummainz.de
BEGIN:VEVENT
UID:4d1bfb84-f530-11f0-bae7-0242ac11002b-1777365000000-de
DTSTAMP:20260119T121344Z
DTSTART:20260428T083000Z
DTEND:20260428T093000Z
SUMMARY;LANGUAGE=de:Hl. Messe
END:VEVENT
END:VCALENDAR
