BEGIN:VCALENDAR
VERSION:2.0
PRODID:http://bistummainz.de
BEGIN:VEVENT
UID:4dc7f2ff-f530-11f0-bae7-0242ac11002b-1777384800000-de
DTSTAMP:20260119T121346Z
DTSTART:20260428T140000Z
DTEND:20260428T150000Z
SUMMARY;LANGUAGE=de:Rosenkranzgebet
END:VEVENT
END:VCALENDAR
