BEGIN:VCALENDAR
VERSION:2.0
PRODID:http://bistummainz.de
BEGIN:VEVENT
UID:50f69c36-f142-11f0-bae7-0242ac11002b-1776960900000-de
DTSTAMP:20260114T121237Z
DTSTART:20260423T161500Z
DTEND:20260423T170000Z
SUMMARY;LANGUAGE=de:Eucharistischer Anbetung
END:VEVENT
END:VCALENDAR
