BEGIN:VCALENDAR
VERSION:2.0
PRODID:http://bistummainz.de
BEGIN:VEVENT
UID:555e2b36-00f8-11f1-bae7-0242ac11002b-1776791700000-de
DTSTAMP:20260203T120320Z
DTSTART:20260421T171500Z
DTEND:20260421T181500Z
SUMMARY;LANGUAGE=de:Jugendgebetskreis Stay & Pray
END:VEVENT
END:VCALENDAR
