BEGIN:VCALENDAR
VERSION:2.0
PRODID:http://bistummainz.de
BEGIN:VEVENT
UID:55aad8ec-f20a-11f0-bae7-0242ac11002b-1777018500000-de
DTSTAMP:20260115T120424Z
DTSTART:20260424T081500Z
DTEND:20260424T091500Z
SUMMARY;LANGUAGE=de:Gottesdienst - Pfr. Givens
END:VEVENT
END:VCALENDAR
