BEGIN:VCALENDAR
VERSION:2.0
PRODID:http://bistummainz.de
BEGIN:VEVENT
UID:5aa6b84b-f079-11f0-bae7-0242ac11002b-1776870000000-de
DTSTAMP:20260113T121405Z
DTSTART:20260422T150000Z
DTEND:20260422T160000Z
SUMMARY;LANGUAGE=de:Blaue Gebetsoase
END:VEVENT
END:VCALENDAR
