BEGIN:VCALENDAR
VERSION:2.0
PRODID:http://bistummainz.de
BEGIN:VEVENT
UID:5af049aa-fe9e-11f0-bae7-0242ac11002b-1778412600000-de
DTSTAMP:20260131T121413Z
DTSTART:20260510T113000Z
DTEND:20260510T120000Z
SUMMARY;LANGUAGE=de:Rosenkranz
END:VEVENT
END:VCALENDAR
