BEGIN:VCALENDAR
VERSION:2.0
PRODID:http://bistummainz.de
BEGIN:VEVENT
UID:5b4854c0-fe9e-11f0-bae7-0242ac11002b-1778400000000-de
DTSTAMP:20260131T121413Z
DTSTART:20260510T080000Z
DTEND:20260510T090000Z
SUMMARY;LANGUAGE=de:Wort-Gottes-Feier mit Kommunion
END:VEVENT
END:VCALENDAR
