BEGIN:VCALENDAR
VERSION:2.0
PRODID:http://bistummainz.de
BEGIN:VEVENT
UID:5ca7edf7-f142-11f0-bae7-0242ac11002b-1776958200000-de
DTSTAMP:20260114T121257Z
DTSTART:20260423T153000Z
DTEND:20260423T160000Z
SUMMARY;LANGUAGE=de:Rosenkranzgebet
END:VEVENT
END:VCALENDAR
