BEGIN:VCALENDAR
VERSION:2.0
PRODID:http://bistummainz.de
BEGIN:VEVENT
UID:5cd2730c-eee6-11f0-bae7-0242ac11002b-1776700800000-de
DTSTAMP:20260111T120921Z
DTSTART:20260420T160000Z
DTEND:20260420T170000Z
SUMMARY;LANGUAGE=de:Rosenkranz für den Frieden in der Welt (S.B.)
END:VEVENT
END:VCALENDAR
