BEGIN:VCALENDAR
VERSION:2.0
PRODID:http://bistummainz.de
BEGIN:VEVENT
UID:5defd695-f142-11f0-bae7-0242ac11002b-1776951000000-de
DTSTAMP:20260114T121259Z
DTSTART:20260423T133000Z
DTEND:20260423T140000Z
SUMMARY;LANGUAGE=de:Rosenkranzgebet
END:VEVENT
END:VCALENDAR
