BEGIN:VCALENDAR
VERSION:2.0
PRODID:http://bistummainz.de
BEGIN:VEVENT
UID:5e2095bf-f6c1-11f0-bae7-0242ac11002b-1777212000000-de
DTSTAMP:20260121T120441Z
DTSTART:20260426T140000Z
DTEND:20260426T150000Z
SUMMARY;LANGUAGE=de:Gottesdienst der ital. Gemeinde - Pfr. Förg
END:VEVENT
END:VCALENDAR
