BEGIN:VCALENDAR
VERSION:2.0
PRODID:http://bistummainz.de
BEGIN:VEVENT
UID:5e7399ba-f91c-11f0-bae7-0242ac11002b-1777791600000-de
DTSTAMP:20260124T120108Z
DTSTART:20260503T070000Z
DTEND:20260503T080000Z
SUMMARY;LANGUAGE=de:Eucharistiefeier
END:VEVENT
END:VCALENDAR
