BEGIN:VCALENDAR
VERSION:2.0
PRODID:http://bistummainz.de
BEGIN:VEVENT
UID:5e9c84b7-eee6-11f0-bae7-0242ac11002b-1776704400000-de
DTSTAMP:20260111T120924Z
DTSTART:20260420T170000Z
DTEND:20260420T180000Z
SUMMARY;LANGUAGE=de:Eucharistische Anbetung und Beichtgelegenheit
END:VEVENT
END:VCALENDAR
