BEGIN:VCALENDAR
VERSION:2.0
PRODID:http://bistummainz.de
BEGIN:VEVENT
UID:6253decc-fc42-11f0-bae7-0242ac11002b-1778173200000-de
DTSTAMP:20260128T121049Z
DTSTART:20260507T170000Z
DTEND:20260507T180000Z
SUMMARY;LANGUAGE=de:Wort-Gottes-Feier
END:VEVENT
END:VCALENDAR
