BEGIN:VCALENDAR
VERSION:2.0
PRODID:http://bistummainz.de
BEGIN:VEVENT
UID:626d9317-0742-11f1-bae7-0242ac11002b-1779346800000-de
DTSTAMP:20260211T120832Z
DTSTART:20260521T070000Z
DTEND:20260521T080000Z
SUMMARY;LANGUAGE=de:Wort-Gottes-Feier
END:VEVENT
END:VCALENDAR
