BEGIN:VCALENDAR
VERSION:2.0
PRODID:http://bistummainz.de
BEGIN:VEVENT
UID:659507ad-f079-11f0-bae7-0242ac11002b-1776866400000-de
DTSTAMP:20260113T121423Z
DTSTART:20260422T140000Z
DTEND:20260422T150000Z
SUMMARY;LANGUAGE=de:Ökumenischer Gottesdienst(Seniorenzentrum)
END:VEVENT
END:VCALENDAR
