BEGIN:VCALENDAR
VERSION:2.0
PRODID:http://bistummainz.de
BEGIN:VEVENT
UID:66b50529-f530-11f0-bae7-0242ac11002b-1777392000000-de
DTSTAMP:20260119T121427Z
DTSTART:20260428T160000Z
DTEND:20260428T163000Z
SUMMARY;LANGUAGE=de:Rosenkranz
END:VEVENT
END:VCALENDAR
