BEGIN:VCALENDAR
VERSION:2.0
PRODID:http://bistummainz.de
BEGIN:VEVENT
UID:67902e22-efb0-11f0-bae7-0242ac11002b-1776790800000-de
DTSTAMP:20260112T121537Z
DTSTART:20260421T170000Z
DTEND:20260421T180000Z
SUMMARY;LANGUAGE=de:Heilige Messe
END:VEVENT
END:VCALENDAR
