BEGIN:VCALENDAR
VERSION:2.0
PRODID:http://bistummainz.de
BEGIN:VEVENT
UID:6f533ec4-f141-11f0-bae7-0242ac11002b-1776927600000-de
DTSTAMP:20260114T120619Z
DTSTART:20260423T070000Z
DTEND:20260423T074500Z
SUMMARY;LANGUAGE=de:Hl. Messe ENTFÄLLT HEUTE!
END:VEVENT
END:VCALENDAR
