BEGIN:VCALENDAR
VERSION:2.0
PRODID:http://bistummainz.de
BEGIN:VEVENT
UID:72736b49-efae-11f0-bae7-0242ac11002b-1776789900000-de
DTSTAMP:20260112T120137Z
DTSTART:20260421T164500Z
DTEND:20260421T174500Z
SUMMARY;LANGUAGE=de:Ökumenisches Friedensgebet
END:VEVENT
END:VCALENDAR
