BEGIN:VCALENDAR
VERSION:2.0
PRODID:http://bistummainz.de
BEGIN:VEVENT
UID:72bd7370-2788-11f1-a93c-0242ac11002b-1776587400000-de
DTSTAMP:20260324T135041Z
DTSTART:20260419T083000Z
SUMMARY;LANGUAGE=de:Erstkommunion Gottesdienst
END:VEVENT
END:VCALENDAR
