BEGIN:VCALENDAR
VERSION:2.0
PRODID:http://bistummainz.de
BEGIN:VEVENT
UID:7594b7ff-0355-11f1-bae7-0242ac11002b-1778947200000-de
DTSTAMP:20260206T121500Z
DTSTART:20260516T160000Z
DTEND:20260516T170000Z
SUMMARY;LANGUAGE=de:Wort-Gottes-Feier mit Kommunion
END:VEVENT
END:VCALENDAR
