BEGIN:VCALENDAR
VERSION:2.0
PRODID:http://bistummainz.de
BEGIN:VEVENT
UID:763242ab-0cc2-11f1-bae7-0242ac11002b-1778315400000-de
DTSTAMP:20260218T120757Z
DTSTART:20260509T083000Z
DTEND:20260509T093000Z
SUMMARY;LANGUAGE=de:Taufe von Emilia Carvalho Santos
END:VEVENT
END:VCALENDAR
