BEGIN:VCALENDAR
VERSION:2.0
PRODID:http://bistummainz.de
BEGIN:VEVENT
UID:763eade3-f142-11f0-bae7-0242ac11002b-1776927600000-de
DTSTAMP:20260114T121340Z
DTSTART:20260423T070000Z
DTEND:20260423T080000Z
SUMMARY;LANGUAGE=de:Eucharistiefeier
END:VEVENT
END:VCALENDAR
