BEGIN:VCALENDAR
VERSION:2.0
PRODID:http://bistummainz.de
BEGIN:VEVENT
UID:764953fe-f39c-11f0-bae7-0242ac11002b-1777188600000-de
DTSTAMP:20260117T120257Z
DTSTART:20260426T073000Z
DTEND:20260426T083000Z
SUMMARY;LANGUAGE=de:Eucharistiefeier - Pfr. Mathias Berger
END:VEVENT
END:VCALENDAR
