BEGIN:VCALENDAR
VERSION:2.0
PRODID:http://bistummainz.de
BEGIN:VEVENT
UID:7714934c-f39c-11f0-bae7-0242ac11002b-1777197600000-de
DTSTAMP:20260117T120258Z
DTSTART:20260426T100000Z
DTEND:20260426T110000Z
SUMMARY;LANGUAGE=de:Spanischsprachige Eucharistiefeier - Pfr. Mathias Berger
END:VEVENT
END:VCALENDAR
