BEGIN:VCALENDAR
VERSION:2.0
PRODID:http://bistummainz.de
BEGIN:VEVENT
UID:78176b5a-0355-11f1-bae7-0242ac11002b-1778944500000-de
DTSTAMP:20260206T121504Z
DTSTART:20260516T151500Z
DTEND:20260516T160000Z
SUMMARY;LANGUAGE=de:Beichtgelegenheit
END:VEVENT
END:VCALENDAR
