BEGIN:VCALENDAR
VERSION:2.0
PRODID:http://bistummainz.de
BEGIN:VEVENT
UID:7982d0a5-1c7a-11f1-bae7-0242ac11002b-1781717400000-de
DTSTAMP:20260310T121257Z
DTSTART:20260617T173000Z
DTEND:20260617T180000Z
SUMMARY;LANGUAGE=de:Rosenkranzgebet für den Frieden
END:VEVENT
END:VCALENDAR
