BEGIN:VCALENDAR
VERSION:2.0
PRODID:http://bistummainz.de
BEGIN:VEVENT
UID:7d39dae8-1c79-11f1-bae7-0242ac11002b-1776610800000-de
DTSTAMP:20260310T120554Z
DTSTART:20260419T150000Z
DTEND:20260419T160000Z
SUMMARY;LANGUAGE=de:Schlussstunde Großes Gebet
END:VEVENT
END:VCALENDAR
